BEGIN:VCALENDAR
VERSION:2.0
PRODID:-//CUSH - ECPv5.8.1//NONSGML v1.0//EN
CALSCALE:GREGORIAN
METHOD:PUBLISH
X-WR-CALNAME:CUSH
X-ORIGINAL-URL:https://www.cushkenosha.com
X-WR-CALDESC:Events for CUSH
BEGIN:VTIMEZONE
TZID:America/Chicago
BEGIN:DAYLIGHT
TZOFFSETFROM:-0600
TZOFFSETTO:-0500
TZNAME:CDT
DTSTART:20230312T080000
END:DAYLIGHT
BEGIN:STANDARD
TZOFFSETFROM:-0500
TZOFFSETTO:-0600
TZNAME:CST
DTSTART:20231105T070000
END:STANDARD
END:VTIMEZONE
BEGIN:VEVENT
DTSTART;TZID=America/Chicago:20231010T133000
DTEND;TZID=America/Chicago:20231010T143000
DTSTAMP:20260421T114915
CREATED:20221228T235529Z
LAST-MODIFIED:20250913T045835Z
UID:798-1696944600-1696948200@www.cushkenosha.com
SUMMARY:Taking a Faithful Stand for Equity:  3rd Annual Teach the Truth Week of Action
DESCRIPTION:3rd Annual Teach the Truth Week of Action \nRegister for the Zoom HERE. \n  \nTo receive CUSH emails\, sign up HERE.
URL:https://www.cushkenosha.com/event/taking-a-faithful-stand-for-equity-3rd-annual-teach-the-truth-week-of-action/
ATTACH;FMTTYPE=image/png:https://www.cushkenosha.com/wp-content/uploads/2022/12/TakingaFaithfulStand.png
END:VEVENT
END:VCALENDAR