BEGIN:VCALENDAR
VERSION:2.0
PRODID:-//CUSH - ECPv5.8.1//NONSGML v1.0//EN
CALSCALE:GREGORIAN
METHOD:PUBLISH
X-WR-CALNAME:CUSH
X-ORIGINAL-URL:https://www.cushkenosha.com
X-WR-CALDESC:Events for CUSH
BEGIN:VTIMEZONE
TZID:America/Chicago
BEGIN:DAYLIGHT
TZOFFSETFROM:-0600
TZOFFSETTO:-0500
TZNAME:CDT
DTSTART:20230312T080000
END:DAYLIGHT
BEGIN:STANDARD
TZOFFSETFROM:-0500
TZOFFSETTO:-0600
TZNAME:CST
DTSTART:20231105T070000
END:STANDARD
END:VTIMEZONE
BEGIN:VEVENT
DTSTART;TZID=America/Chicago:20230613T133000
DTEND;TZID=America/Chicago:20230613T143000
DTSTAMP:20260421T053643
CREATED:20221228T235059Z
LAST-MODIFIED:20250913T045836Z
UID:787-1686663000-1686666600@www.cushkenosha.com
SUMMARY:Taking a Faithful Stand for Equity Statewide Call
DESCRIPTION:The next meeting of Taking a Faithful Stand for Equity will be Tuesday\, June 13\, at 6:30 pm on Zoom.  If you haven’t already\, registered\, please email Lori Hawkins at lhawkins@cushkenosha.com and ask for access to the zoom registration.\n\nOur topic will be current proposals for reforming shared revenue — funding that flows from the state to local governments.  It is a complicated issue but one that we all need to understand\, because these proposals would have an enormous impact on our communities and our efforts to advance racial equity.\n\nWe will be joined by Philip Rocco\, Associate Professor of Political Science at Marquette University\, and Dr. Cassandra Bowers\, Executive Director of All In Wisconsin.\n\nProf. Rocco has written extensively on the shared revenue proposals from both Governor Evers and Republican legislators for The Recombobulation Area.  You can read his analysis at: What we talk about when we talk about shared revenue (which has links to his earlier columns on the version of the shared revenue bill passed by the Assembly and comparing Gov. Evers’ and the GOP proposals).\n\nDr. Bowers will share All In Wisconsin’s messaging and narrative around how the GOP proposal would hurt and scapegoat Milwaukee\, especially Black and Brown residents\, and that it isn’t a plan to increase the services and resources our families need but yet another backdoor ploy to fund police departments and take away local control. (See the attached messaging guide).\n\nWhatever the status of the legislation is at the time we meet\, we’ll have suggestions for actions you can take.\n\nPlease join us!\nOn behalf of the Taking a Faithful Stand for Equity cosponsors: \n\nInterfaith Conference of Greater Milwaukee\nMICAH\nWisconsin Council of Churches\nWisconsin Council of Rabbis\nWisconsin Faith Voices for Justice\nWISDOM\n\n  \nTo receive CUSH emails\, sign up HERE.
URL:https://www.cushkenosha.com/event/taking-a-faithful-stand-for-equity-3/
ATTACH;FMTTYPE=image/png:https://www.cushkenosha.com/wp-content/uploads/2022/12/TakingaFaithfulStand.png
END:VEVENT
END:VCALENDAR