BEGIN:VCALENDAR
VERSION:2.0
PRODID:-//CUSH - ECPv5.8.1//NONSGML v1.0//EN
CALSCALE:GREGORIAN
METHOD:PUBLISH
X-WR-CALNAME:CUSH
X-ORIGINAL-URL:https://www.cushkenosha.com
X-WR-CALDESC:Events for CUSH
BEGIN:VTIMEZONE
TZID:America/Chicago
BEGIN:DAYLIGHT
TZOFFSETFROM:-0600
TZOFFSETTO:-0500
TZNAME:CDT
DTSTART:20220313T080000
END:DAYLIGHT
BEGIN:STANDARD
TZOFFSETFROM:-0500
TZOFFSETTO:-0600
TZNAME:CST
DTSTART:20221106T070000
END:STANDARD
END:VTIMEZONE
BEGIN:VEVENT
DTSTART;TZID=America/Chicago:20221005T103000
DTEND;TZID=America/Chicago:20221005T123000
DTSTAMP:20260422T060001
CREATED:20220930T232224Z
LAST-MODIFIED:20250913T045852Z
UID:668-1664965800-1664973000@www.cushkenosha.com
SUMMARY:Canvas with CUSH!
DESCRIPTION:Sign Up Here:  https://forms.gle/sheKk7LU5hfC6q2V9 \nAccess to the polls and informed voting are critical social justice issues today. \nKnock on Doors with us  in CUSH Congregation Neighborhoods. \n3:30 – 5:30pm \nCanvas with a partner \nNo experience required – onsite training \nCome alone\, bring a friend\, bring a group from your congregation! \n  \nThese canvases are nonpartisan actions to share voting access information.
URL:https://www.cushkenosha.com/event/canvas-with-cush-7/
ATTACH;FMTTYPE=image/png:https://www.cushkenosha.com/wp-content/uploads/2022/09/VoterCalltoAction-1-1.png
END:VEVENT
BEGIN:VEVENT
DTSTART;TZID=America/Chicago:20221009T080000
DTEND;TZID=America/Chicago:20221009T103000
DTSTAMP:20260422T060001
CREATED:20220930T213818Z
LAST-MODIFIED:20250913T045852Z
UID:650-1665302400-1665311400@www.cushkenosha.com
SUMMARY:Sunday Canvas with CUSH and WIVEC!
DESCRIPTION:CUSH is partnering with WIVEC (Wisconsin Interfaith Voter Engagement Campaign) and the League of Women Voters to canvas with kick off and wrap up refreshments at Bradford UU Church (5810 8th Ave\, Kenosha).  The more volunteers\, the bigger the success. \nRegister Here: https://forms.gle/YjgiqggAN6U7sS9x7
URL:https://www.cushkenosha.com/event/canvas-with-cush-2/
ATTACH;FMTTYPE=image/png:https://www.cushkenosha.com/wp-content/uploads/2022/09/VoterCalltoAction-1-1.png
END:VEVENT
BEGIN:VEVENT
DTSTART;TZID=America/Chicago:20221013T110000
DTEND;TZID=America/Chicago:20221013T130000
DTSTAMP:20260422T060001
CREATED:20220930T214046Z
LAST-MODIFIED:20250913T045851Z
UID:654-1665658800-1665666000@www.cushkenosha.com
SUMMARY:Attend the CUSH/Urban League Voter Simulation - Polling Place Practice Event
DESCRIPTION:CUSH and the Urban League are partnering for CUSH’s Voter Simulation Event on Thursday\, Oct. 13 from 4pm until 6pm\, hosted at the Urban League in Kenosha (1418 – 68th St\, Kenosha). \nSign Up Here To Participate:  https://secure.everyaction.com/b-AGGuoyyk-jlMeB4vWjew2\n(so that we can get a good head count for food) \nWhat is a Voter Simulation Experience? It’s an opportunity to practice what voting is like! \nWalk through a replica of a polling place to practice the voting process. Assistance offered to register to vote or to request your absentee ballot. Information offered about eligibility\, where to vote\, and early voting. \nIf you are a first time voter or have questions about the voting process\, please attend! \nSpanish – speaking volunteers will be on site too. \nFree – Family Friendly – Food Provided \n—————————————-\nCUSH y Urban League se están asociando para el evento de simulación de votantes de CUSH\, organizado en Urban League en Kenosha (1418 – 68th St\, Kenosha). \n¿Qué es una experiencia de simulación de votantes? ¡Es una oportunidad para practicar cómo es votar! \nCamine a través de una réplica de un lugar de votación para practicar el proceso de votación. Asistencia ofrecida para registrarse para votar o para solicitar su boleta de voto en ausencia. Información ofrecida sobre elegibilidad\, dónde votar y votación anticipada. \nSi vota por primera vez o tiene preguntas sobre el proceso de votación\, ¡asista! \nTambién habrá voluntarios de habla hispana en el lugar. \nGratis – Apto para toda la familia – Comida incluida \n**Email Lori Hawkins\, if you are interested in volunteering for this event: lhawkins@cushkenosha.com
URL:https://www.cushkenosha.com/event/volunteer-at-the-cush-voter-simulation-experience/
LOCATION:Urban League\, 1418 68th Street\, Kenosha\, 53143\, United States
ATTACH;FMTTYPE=image/png:https://www.cushkenosha.com/wp-content/uploads/2022/09/Voter-Polling-Place-Practice-with-CUSH-and-the-Urban-League.png
END:VEVENT
BEGIN:VEVENT
DTSTART;TZID=America/Chicago:20221021T120000
DTEND;TZID=America/Chicago:20221021T130000
DTSTAMP:20260422T060001
CREATED:20221019T194353Z
LAST-MODIFIED:20250913T045851Z
UID:704-1666353600-1666357200@www.cushkenosha.com
SUMMARY:Clerk of Circuit Courts Candidate Forum
DESCRIPTION:Tune in Friday through the Leaders of Kenosha Facebook Page for this candidate forum\, which will be live streamed.  You will also be able to access the recording of this live stream at anytime following the forum at either the LOK or CUSH Facebook page. \nKenosha County Clerk of Circuit Courts is an important race. The League of Women Voters website defines this role for us: “The Clerk of Circuit Courts handles record keeping\, finance\, and administration for the court as well as jury management. Clerks of Circuit Courts work with all those involved in the county judicial process including judges\, county boards and the public. Voters elect the clerk of circuit court to serve a four-year term in countywide races.” \nCandidates were issued invitation to take part on Wednesday\, October 5th.\n– Rebecca Matoska Mentink confirmed that day.\n– Zach Rodriguez did not reply to that invitation (which was through an email at his campaign website.) A follow up voicemail invitation was left for him on Wednesday\, October 12\, and an email on Tuesday\, October 18th\, both to the information on the county’s candidate filing papers. As of this time\, we have not received a reply\, but we hope that Zach will attend on Friday\, as this is the only opportunity for the public to hear from both candidates together. \n– On Tuesday\, October 18th\, both candidates were emailed the Forum Guidelines\, which can be found HERE. \n 
URL:https://www.cushkenosha.com/event/clerk-of-circuit-courts-candidate-forum/
ATTACH;FMTTYPE=image/png:https://www.cushkenosha.com/wp-content/uploads/2022/10/Virtual-Candidate-Forum-2022.png
END:VEVENT
END:VCALENDAR