BEGIN:VCALENDAR
VERSION:2.0
PRODID:-//CUSH - ECPv5.8.1//NONSGML v1.0//EN
CALSCALE:GREGORIAN
METHOD:PUBLISH
X-WR-CALNAME:CUSH
X-ORIGINAL-URL:https://www.cushkenosha.com
X-WR-CALDESC:Events for CUSH
BEGIN:VTIMEZONE
TZID:America/Chicago
BEGIN:DAYLIGHT
TZOFFSETFROM:-0600
TZOFFSETTO:-0500
TZNAME:CDT
DTSTART:20220313T080000
END:DAYLIGHT
BEGIN:STANDARD
TZOFFSETFROM:-0500
TZOFFSETTO:-0600
TZNAME:CST
DTSTART:20221106T070000
END:STANDARD
END:VTIMEZONE
BEGIN:VEVENT
DTSTART;TZID=America/Chicago:20220309T183000
DTEND;TZID=America/Chicago:20220309T200000
DTSTAMP:20260422T153839
CREATED:20220310T040028Z
LAST-MODIFIED:20250913T045852Z
UID:548-1646850600-1646856000@www.cushkenosha.com
SUMMARY:KUSD School Board Candidate Forum
DESCRIPTION:Co-Hosted by CUSH\, Beth Hillel Social Action Committee\, and the Urban League of Racine and Kenosha. \n  \nThis forum will livestream on the CUSH Facebook page\, and a recording of the forum will be on the CUSH Facebook page afterwards for people who are not available to watch it live.
URL:https://www.cushkenosha.com/event/kusd-school-board-candidate-forum/
END:VEVENT
BEGIN:VEVENT
DTSTART;TZID=America/Chicago:20220328T133000
DTEND;TZID=America/Chicago:20220328T144500
DTSTAMP:20260422T153839
CREATED:20220310T041420Z
LAST-MODIFIED:20250913T045852Z
UID:551-1648474200-1648478700@www.cushkenosha.com
SUMMARY:CUSH Community Conversation:  Anti-Semitism & Anti-Muslim Bias in Kenosha
DESCRIPTION:This second CUSH Community Conversation in our 3-part Addressing Our Bias and Embracing Our Diversity program is again at Bradford Community Church UU.  Our conversation will focus on current issues in Kenosha concerning the circulation of Anti-Semitic literature and Anti-Muslim bias that has been encountered as CUSH works to sponsor Afghan refugee households. \nPlease register to join us for this important community conversation:\nhttps://secure.everyaction.com/PmoLErn-zUmPuieE_RLDzA2
URL:https://www.cushkenosha.com/event/cush-community-conversation-anti-semitism-anti-muslim-bias-in-kenosha/
LOCATION:Bradford Community Church Unitarian Universalist\, 5810 8th Avenue\, Kenosha\, 53140\, United States
END:VEVENT
BEGIN:VEVENT
DTSTART;TZID=America/Chicago:20220329T133000
DTEND;TZID=America/Chicago:20220329T143000
DTSTAMP:20260422T153839
CREATED:20220310T041812Z
LAST-MODIFIED:20250913T045852Z
UID:553-1648560600-1648564200@www.cushkenosha.com
SUMMARY:Life at Our Southern Border
DESCRIPTION:Join CUSH Religious Leaders Caucus members Sr. Erica Jordan\, OP and Sr. Judy Seiberlich\, OP for this important presentation about life at the migrant encampment in Reynosa\, Tamaulipas in Mexico. Sr. Erica and Sr. Judy\, both Sinsinawa Dominican sisters\, will share their experiences at the U.S. southern border from their volunteer work there with Catholic Charities Humanitarian Respite Center in McAllen\, Texas in late October 2021. \n  \nIf you missed this event and would like to watch the recorded livestream\, access the link by clicking HERE.
URL:https://www.cushkenosha.com/event/life-at-our-southern-border/
END:VEVENT
END:VCALENDAR