BEGIN:VCALENDAR
VERSION:2.0
PRODID:-//CUSH - ECPv5.8.1//NONSGML v1.0//EN
CALSCALE:GREGORIAN
METHOD:PUBLISH
X-WR-CALNAME:CUSH
X-ORIGINAL-URL:https://www.cushkenosha.com
X-WR-CALDESC:Events for CUSH
BEGIN:VTIMEZONE
TZID:America/Chicago
BEGIN:DAYLIGHT
TZOFFSETFROM:-0600
TZOFFSETTO:-0500
TZNAME:CDT
DTSTART:20260308T080000
END:DAYLIGHT
BEGIN:STANDARD
TZOFFSETFROM:-0500
TZOFFSETTO:-0600
TZNAME:CST
DTSTART:20261101T070000
END:STANDARD
END:VTIMEZONE
BEGIN:VEVENT
DTSTART;TZID=America/Chicago:20260418T130000
DTEND;TZID=America/Chicago:20260418T150000
DTSTAMP:20260419T105806
CREATED:20260401T234601Z
LAST-MODIFIED:20260401T234601Z
UID:3491-1776517200-1776524400@www.cushkenosha.com
SUMMARY:Community Defense Verifier Training
DESCRIPTION:Learn to be a verifier and respond to ICE alerts by quickly traveling to reported locations to quickly confirm or deny ICE activity
URL:https://www.cushkenosha.com/event/community-defense-verifier-training/
LOCATION:Spirit Alive!\, 4600 60th St\, Kenosha\, WI\, 53144\, United States
CATEGORIES:Immigration
ATTACH;FMTTYPE=image/png:https://www.cushkenosha.com/wp-content/uploads/2025/10/4.png
END:VEVENT
BEGIN:VEVENT
DTSTART;TZID=America/Chicago:20260513T190000
DTEND;TZID=America/Chicago:20260513T200000
DTSTAMP:20260419T105806
CREATED:20260319T010431Z
LAST-MODIFIED:20260319T011306Z
UID:3449-1778698800-1778702400@www.cushkenosha.com
SUMMARY:Environmental Justice: Juliane S.\, Philadelphia Tree Tenders Program
DESCRIPTION:
URL:https://www.cushkenosha.com/event/environmental-justice-juliane-s-philadelphia-tree-tenders-program/
LOCATION:ZOOM
CATEGORIES:Environmental
ATTACH;FMTTYPE=image/png:https://www.cushkenosha.com/wp-content/uploads/2025/10/3.png
ORGANIZER;CN="Karen%20Kempinen":MAILTO:kkempinen@gmail.com
END:VEVENT
BEGIN:VEVENT
DTSTART;TZID=America/Chicago:20260518T150000
DTEND;TZID=America/Chicago:20260518T220000
DTSTAMP:20260419T105806
CREATED:20260325T000414Z
LAST-MODIFIED:20260325T000414Z
UID:3458-1779116400-1779141600@www.cushkenosha.com
SUMMARY:Texas Roadhouse Fundraiser
DESCRIPTION:
URL:https://www.cushkenosha.com/event/texas-roadhouse-fundraiser/
LOCATION:Texas Roadhouse\, 11841 71st St\, Kenosha\, WI\, 53142\, United States
CATEGORIES:Community Event
ATTACH;FMTTYPE=image/png:https://www.cushkenosha.com/wp-content/uploads/2026/03/D2D-Flyer-5-18.png
END:VEVENT
BEGIN:VEVENT
DTSTART;TZID=America/Chicago:20260524T080000
DTEND;TZID=America/Chicago:20260524T090000
DTSTAMP:20260419T105806
CREATED:20260410T014132Z
LAST-MODIFIED:20260410T014132Z
UID:3527-1779609600-1779613200@www.cushkenosha.com
SUMMARY:RLC Tour | First United Methodist
DESCRIPTION:Wear red for Pentecost Sunday. Fellowship before & after service. Sunday School 9:15 am.
URL:https://www.cushkenosha.com/event/rlc-tour-first-united-methodist/
LOCATION:First United Methodist Church\, 919 60th Street\, Kenosha\, 53140\, United States
CATEGORIES:Religious Leaders Caucus
END:VEVENT
BEGIN:VEVENT
DTSTART;TZID=America/Chicago:20260606T160000
DTEND;TZID=America/Chicago:20260606T170000
DTSTAMP:20260419T105806
CREATED:20260410T012502Z
LAST-MODIFIED:20260410T012502Z
UID:3519-1780761600-1780765200@www.cushkenosha.com
SUMMARY:RLC Tour | St. Mary's Lutheran Church
DESCRIPTION:Join us for refreshments following the service.
URL:https://www.cushkenosha.com/event/rlc-tour-st-marys-lutheran-church/
LOCATION:St. Mary’s Lutheran Church\, 2001 80th St\, Kenosha\, Wisconsin\, 53143\, United States
CATEGORIES:Religious Leaders Caucus
END:VEVENT
BEGIN:VEVENT
DTSTART;TZID=America/Chicago:20260712T103000
DTEND;TZID=America/Chicago:20260712T120000
DTSTAMP:20260419T105806
CREATED:20260410T013143Z
LAST-MODIFIED:20260410T013426Z
UID:3523-1783852200-1783857600@www.cushkenosha.com
SUMMARY:RLC Tour | Spirit Alive! Lutheran Church
DESCRIPTION:Fellowship from 11:45 am to 12:15 pm
URL:https://www.cushkenosha.com/event/rlc-tour-spirit-alive-lutheran-church/
LOCATION:Spirit Alive!\, 4600 60th St\, Kenosha\, WI\, 53144\, United States
CATEGORIES:Religious Leaders Caucus
END:VEVENT
BEGIN:VEVENT
DTSTART;TZID=America/Chicago:20260809T100000
DTEND;TZID=America/Chicago:20260809T110000
DTSTAMP:20260419T105806
CREATED:20260410T010355Z
LAST-MODIFIED:20260410T011258Z
UID:3514-1786269600-1786273200@www.cushkenosha.com
SUMMARY:RLC Tour | Somers United Community Church of Christ
DESCRIPTION:
URL:https://www.cushkenosha.com/event/rlc-tour-somers-united-community-church-of-christ/
LOCATION:Somers United Community Church of Christ\, 9918 12th St\, Kenosha\, WI\, 53144\, United States
CATEGORIES:Religious Leaders Caucus
END:VEVENT
END:VCALENDAR