BEGIN:VCALENDAR
VERSION:2.0
PRODID:-//CUSH - ECPv5.8.1//NONSGML v1.0//EN
CALSCALE:GREGORIAN
METHOD:PUBLISH
X-WR-CALNAME:CUSH
X-ORIGINAL-URL:https://www.cushkenosha.com
X-WR-CALDESC:Events for CUSH
BEGIN:VTIMEZONE
TZID:America/Chicago
BEGIN:DAYLIGHT
TZOFFSETFROM:-0600
TZOFFSETTO:-0500
TZNAME:CDT
DTSTART:20210314T080000
END:DAYLIGHT
BEGIN:STANDARD
TZOFFSETFROM:-0500
TZOFFSETTO:-0600
TZNAME:CST
DTSTART:20211107T070000
END:STANDARD
END:VTIMEZONE
BEGIN:VEVENT
DTSTART;TZID=America/Chicago:20210715T123000
DTEND;TZID=America/Chicago:20210715T143000
DTSTAMP:20260419T073042
CREATED:20210712T220131Z
LAST-MODIFIED:20250913T045852Z
UID:309-1626352200-1626359400@www.cushkenosha.com
SUMMARY:CUSH Issues Assembly
DESCRIPTION:Join us to help shape the next issue actions for CUSH!\nWhat to expect: \n\nThe opportunity to forward an issue important to you!\nCollaboration opportunities for social justice in our community\nA positive evening with positive people\nCaucus-style decision making\nSweet treats provided by the CUSH Board\n\nAttend to listen OR prepare to speak for up to 3 minutes as to why those in attendance should vote to make your issue one of the next CUSH actions. \nFacilitators: \nDavid Liners – WISDOM Executive Director\nLori Hawkins – CUSH Organizer \nReservations suggested but not mandatory – cushkenosha@gmail.com\nCDC safety precautions will be practiced.
URL:https://www.cushkenosha.com/event/cush-issues-assembly/
LOCATION:St. Mary’s Lutheran Church\, 2001 - 80th Street
ATTACH;FMTTYPE=image/png:https://www.cushkenosha.com/wp-content/uploads/2021/07/CUSH-Issues-Assembly-Graphic.png
END:VEVENT
END:VCALENDAR