BEGIN:VCALENDAR
VERSION:2.0
PRODID:-//CUSH - ECPv5.8.1//NONSGML v1.0//EN
CALSCALE:GREGORIAN
METHOD:PUBLISH
X-WR-CALNAME:CUSH
X-ORIGINAL-URL:https://www.cushkenosha.com
X-WR-CALDESC:Events for CUSH
BEGIN:VTIMEZONE
TZID:America/Chicago
BEGIN:DAYLIGHT
TZOFFSETFROM:-0600
TZOFFSETTO:-0500
TZNAME:CDT
DTSTART:20250309T080000
END:DAYLIGHT
BEGIN:STANDARD
TZOFFSETFROM:-0500
TZOFFSETTO:-0600
TZNAME:CST
DTSTART:20251102T070000
END:STANDARD
END:VTIMEZONE
BEGIN:VEVENT
DTSTART;TZID=America/Chicago:20250917T133000
DTEND;TZID=America/Chicago:20250917T150000
DTSTAMP:20260421T050603
CREATED:20250913T042539Z
LAST-MODIFIED:20250915T003129Z
UID:2113-1758115800-1758121200@www.cushkenosha.com
SUMMARY:Power of Community Organizing | Wednesday\, September 17
DESCRIPTION:
URL:https://www.cushkenosha.com/event/power-of-community-organizing-wednesday-september-17/
LOCATION:ZOOM
CATEGORIES:Community Event,Training
ATTACH;FMTTYPE=image/png:https://www.cushkenosha.com/wp-content/uploads/2025/08/Wisdom-WI-logo.png
END:VEVENT
END:VCALENDAR