BEGIN:VCALENDAR
VERSION:2.0
PRODID:-//CUSH - ECPv5.8.1//NONSGML v1.0//EN
CALSCALE:GREGORIAN
METHOD:PUBLISH
X-WR-CALNAME:CUSH
X-ORIGINAL-URL:https://www.cushkenosha.com
X-WR-CALDESC:Events for CUSH
BEGIN:VTIMEZONE
TZID:America/Chicago
BEGIN:DAYLIGHT
TZOFFSETFROM:-0600
TZOFFSETTO:-0500
TZNAME:CDT
DTSTART:20230312T080000
END:DAYLIGHT
BEGIN:STANDARD
TZOFFSETFROM:-0500
TZOFFSETTO:-0600
TZNAME:CST
DTSTART:20231105T070000
END:STANDARD
END:VTIMEZONE
BEGIN:VEVENT
DTSTART;TZID=America/Chicago:20231120T180000
DTEND;TZID=America/Chicago:20231120T190000
DTSTAMP:20260421T145343
CREATED:20231110T021636Z
LAST-MODIFIED:20250913T045835Z
UID:936-1700503200-1700506800@www.cushkenosha.com
SUMMARY:Transgender Day of Remembrance
DESCRIPTION:An annual observance that honors the memory of the transgender people whose lives were lost in acts of anti-transgender violence. \nAdvance Registration Required.  \nRegister Here:  https://secure.everyaction.com/qQKc6ctSVUyZNL13g-hxOA2
URL:https://www.cushkenosha.com/event/transgender-day-of-remembrance/
LOCATION:First United Methodist Church\, 919 60th Street\, Kenosha\, 53140\, United States
ATTACH;FMTTYPE=image/png:https://www.cushkenosha.com/wp-content/uploads/2023/11/Screen-Shot-2023-11-09-at-2.00.43-PM.png
END:VEVENT
END:VCALENDAR