BEGIN:VCALENDAR
VERSION:2.0
PRODID:-//CUSH - ECPv5.8.1//NONSGML v1.0//EN
CALSCALE:GREGORIAN
METHOD:PUBLISH
X-WR-CALNAME:CUSH
X-ORIGINAL-URL:https://www.cushkenosha.com
X-WR-CALDESC:Events for CUSH
BEGIN:VTIMEZONE
TZID:America/Chicago
BEGIN:DAYLIGHT
TZOFFSETFROM:-0600
TZOFFSETTO:-0500
TZNAME:CDT
DTSTART:20230312T080000
END:DAYLIGHT
BEGIN:STANDARD
TZOFFSETFROM:-0500
TZOFFSETTO:-0600
TZNAME:CST
DTSTART:20231105T070000
END:STANDARD
END:VTIMEZONE
BEGIN:VEVENT
DTSTART;TZID=America/Chicago:20231108T123000
DTEND;TZID=America/Chicago:20231108T140000
DTSTAMP:20260421T144644
CREATED:20231110T022057Z
LAST-MODIFIED:20250913T045835Z
UID:942-1699446600-1699452000@www.cushkenosha.com
SUMMARY:Building Transformational Justice:  An Info Session
DESCRIPTION:
URL:https://www.cushkenosha.com/event/building-transformational-justice-an-info-session/
ATTACH;FMTTYPE=image/jpeg:https://www.cushkenosha.com/wp-content/uploads/2023/11/TransformJust.jpeg
END:VEVENT
END:VCALENDAR