BEGIN:VCALENDAR
VERSION:2.0
PRODID:-//CUSH - ECPv5.8.1//NONSGML v1.0//EN
CALSCALE:GREGORIAN
METHOD:PUBLISH
X-WR-CALNAME:CUSH
X-ORIGINAL-URL:https://www.cushkenosha.com
X-WR-CALDESC:Events for CUSH
BEGIN:VTIMEZONE
TZID:America/Chicago
BEGIN:DAYLIGHT
TZOFFSETFROM:-0600
TZOFFSETTO:-0500
TZNAME:CDT
DTSTART:20220313T080000
END:DAYLIGHT
BEGIN:STANDARD
TZOFFSETFROM:-0500
TZOFFSETTO:-0600
TZNAME:CST
DTSTART:20221106T070000
END:STANDARD
END:VTIMEZONE
BEGIN:VEVENT
DTSTART;TZID=America/Chicago:20221005T103000
DTEND;TZID=America/Chicago:20221005T123000
DTSTAMP:20260422T055955
CREATED:20220930T232224Z
LAST-MODIFIED:20250913T045852Z
UID:668-1664965800-1664973000@www.cushkenosha.com
SUMMARY:Canvas with CUSH!
DESCRIPTION:Sign Up Here:  https://forms.gle/sheKk7LU5hfC6q2V9 \nAccess to the polls and informed voting are critical social justice issues today. \nKnock on Doors with us  in CUSH Congregation Neighborhoods. \n3:30 – 5:30pm \nCanvas with a partner \nNo experience required – onsite training \nCome alone\, bring a friend\, bring a group from your congregation! \n  \nThese canvases are nonpartisan actions to share voting access information.
URL:https://www.cushkenosha.com/event/canvas-with-cush-7/
ATTACH;FMTTYPE=image/png:https://www.cushkenosha.com/wp-content/uploads/2022/09/VoterCalltoAction-1-1.png
END:VEVENT
END:VCALENDAR