BEGIN:VCALENDAR
VERSION:2.0
PRODID:-//CUSH - ECPv5.8.1//NONSGML v1.0//EN
CALSCALE:GREGORIAN
METHOD:PUBLISH
X-WR-CALNAME:CUSH
X-ORIGINAL-URL:https://www.cushkenosha.com
X-WR-CALDESC:Events for CUSH
BEGIN:VTIMEZONE
TZID:America/Chicago
BEGIN:DAYLIGHT
TZOFFSETFROM:-0600
TZOFFSETTO:-0500
TZNAME:CDT
DTSTART:20220313T080000
END:DAYLIGHT
BEGIN:STANDARD
TZOFFSETFROM:-0500
TZOFFSETTO:-0600
TZNAME:CST
DTSTART:20221106T070000
END:STANDARD
END:VTIMEZONE
BEGIN:VEVENT
DTSTART;TZID=America/Chicago:20220929T103000
DTEND;TZID=America/Chicago:20220929T130000
DTSTAMP:20260422T060002
CREATED:20220930T213725Z
LAST-MODIFIED:20250913T045852Z
UID:648-1664447400-1664456400@www.cushkenosha.com
SUMMARY:Canvas with CUSH and WIVEC!
DESCRIPTION:CUSH is partnering with WIVEC (Wisconsin Interfaith Voter Engagement Campaign) and the League of Women Voters to canvas with kick off and wrap up refreshments at Bradford UU Church (5810 8th Ave\, Kenosha).  The more volunteers\, the bigger the success. \nRegister Here: https://forms.gle/YjgiqggAN6U7sS9x7 \n 
URL:https://www.cushkenosha.com/event/canvas-with-cush/
END:VEVENT
END:VCALENDAR