BEGIN:VCALENDAR
VERSION:2.0
PRODID:-//CUSH - ECPv5.8.1//NONSGML v1.0//EN
CALSCALE:GREGORIAN
METHOD:PUBLISH
X-WR-CALNAME:CUSH
X-ORIGINAL-URL:https://www.cushkenosha.com
X-WR-CALDESC:Events for CUSH
BEGIN:VTIMEZONE
TZID:America/Chicago
BEGIN:DAYLIGHT
TZOFFSETFROM:-0600
TZOFFSETTO:-0500
TZNAME:CDT
DTSTART:20220313T080000
END:DAYLIGHT
BEGIN:STANDARD
TZOFFSETFROM:-0500
TZOFFSETTO:-0600
TZNAME:CST
DTSTART:20221106T070000
END:STANDARD
END:VTIMEZONE
BEGIN:VEVENT
DTSTART;TZID=America/Chicago:20220328T133000
DTEND;TZID=America/Chicago:20220328T144500
DTSTAMP:20260422T153840
CREATED:20220310T041420Z
LAST-MODIFIED:20250913T045852Z
UID:551-1648474200-1648478700@www.cushkenosha.com
SUMMARY:CUSH Community Conversation:  Anti-Semitism & Anti-Muslim Bias in Kenosha
DESCRIPTION:This second CUSH Community Conversation in our 3-part Addressing Our Bias and Embracing Our Diversity program is again at Bradford Community Church UU.  Our conversation will focus on current issues in Kenosha concerning the circulation of Anti-Semitic literature and Anti-Muslim bias that has been encountered as CUSH works to sponsor Afghan refugee households. \nPlease register to join us for this important community conversation:\nhttps://secure.everyaction.com/PmoLErn-zUmPuieE_RLDzA2
URL:https://www.cushkenosha.com/event/cush-community-conversation-anti-semitism-anti-muslim-bias-in-kenosha/
LOCATION:Bradford Community Church Unitarian Universalist\, 5810 8th Avenue\, Kenosha\, 53140\, United States
END:VEVENT
END:VCALENDAR