BEGIN:VCALENDAR
VERSION:2.0
PRODID:-//CUSH - ECPv5.8.1//NONSGML v1.0//EN
CALSCALE:GREGORIAN
METHOD:PUBLISH
X-WR-CALNAME:CUSH
X-ORIGINAL-URL:https://www.cushkenosha.com
X-WR-CALDESC:Events for CUSH
BEGIN:VTIMEZONE
TZID:America/Chicago
BEGIN:DAYLIGHT
TZOFFSETFROM:-0600
TZOFFSETTO:-0500
TZNAME:CDT
DTSTART:20210314T080000
END:DAYLIGHT
BEGIN:STANDARD
TZOFFSETFROM:-0500
TZOFFSETTO:-0600
TZNAME:CST
DTSTART:20211107T070000
END:STANDARD
END:VTIMEZONE
BEGIN:VEVENT
DTSTART;TZID=America/Chicago:20211014T123000
DTEND;TZID=America/Chicago:20211014T130000
DTSTAMP:20260424T022930
CREATED:20210924T235320Z
LAST-MODIFIED:20250913T045852Z
UID:388-1634214600-1634216400@www.cushkenosha.com
SUMMARY:Taking a Faithful Stance for Racial Equity
DESCRIPTION:Thursday\, October 14th @ 5:30 – 6:00pm\n\n\non the front steps of Beth Hillel Temple 6050-8th Ave\, Kenosha\n\n\nJoin CUSH October 14th at 5:30pm and make a commitment to support the efforts of our schools to teach the truth.\nAt this short but important event:\n\n– Hear from young Kenosha adults about the importance of learning from a curriculum that is inclusive from their own experiences.\n\n– Listen to our faith leaders talk about why our varied faith backgrounds demand that we stand for racial equity.\n\n\n– Find out how to take a stand and to connect with others who will too.\n\n– To learn more about this statewide initiative and to sign the pledge\, visit https://wisdomwisconsin.org/pledges
URL:https://www.cushkenosha.com/event/taking-a-faithful-stance-for-racial-equity/
LOCATION:Beth Hillel Temple Kenosha\, 6050 8th Avenue\, Kenosha\, WI\, 53143\, United States
ATTACH;FMTTYPE=image/png:https://www.cushkenosha.com/wp-content/uploads/2021/09/TAFSFRE-TTTWWOA.png
END:VEVENT
END:VCALENDAR