BEGIN:VCALENDAR
VERSION:2.0
PRODID:-//CUSH - ECPv5.8.1//NONSGML v1.0//EN
CALSCALE:GREGORIAN
METHOD:PUBLISH
X-WR-CALNAME:CUSH
X-ORIGINAL-URL:https://www.cushkenosha.com
X-WR-CALDESC:Events for CUSH
BEGIN:VTIMEZONE
TZID:America/Chicago
BEGIN:DAYLIGHT
TZOFFSETFROM:-0600
TZOFFSETTO:-0500
TZNAME:CDT
DTSTART:20250309T080000
END:DAYLIGHT
BEGIN:STANDARD
TZOFFSETFROM:-0500
TZOFFSETTO:-0600
TZNAME:CST
DTSTART:20251102T070000
END:STANDARD
END:VTIMEZONE
BEGIN:VEVENT
DTSTART;TZID=America/Chicago:20250512T130000
DTEND;TZID=America/Chicago:20250512T140000
DTSTAMP:20260419T072232
CREATED:20250512T214709Z
LAST-MODIFIED:20250913T045820Z
UID:1325-1747054800-1747058400@www.cushkenosha.com
SUMMARY:QUEER LIBERATION STUDIES
DESCRIPTION:Wednesday May 14\, 2025 @ 6PM-7PM: Day 11-Jesus still has his Scars.Until further notice all Queeur Liberationsare being moved to Zoom with no in personmeetings.Contact Cal Robert Millercal88miller@gmail.com(414)215-0451
URL:https://www.cushkenosha.com/event/queer-liberation-studies-3/
END:VEVENT
END:VCALENDAR